BEGIN:VCALENDAR
VERSION:2.0
PRODID:-//Double Peak Music Program - ECPv6.15.20//NONSGML v1.0//EN
CALSCALE:GREGORIAN
METHOD:PUBLISH
X-ORIGINAL-URL:https://doublepeakmusic.org
X-WR-CALDESC:Events for Double Peak Music Program
REFRESH-INTERVAL;VALUE=DURATION:PT1H
X-Robots-Tag:noindex
X-PUBLISHED-TTL:PT1H
BEGIN:VTIMEZONE
TZID:America/Los_Angeles
BEGIN:DAYLIGHT
TZOFFSETFROM:-0800
TZOFFSETTO:-0700
TZNAME:PDT
DTSTART:20180311T100000
END:DAYLIGHT
BEGIN:STANDARD
TZOFFSETFROM:-0700
TZOFFSETTO:-0800
TZNAME:PST
DTSTART:20181104T090000
END:STANDARD
BEGIN:DAYLIGHT
TZOFFSETFROM:-0800
TZOFFSETTO:-0700
TZNAME:PDT
DTSTART:20190310T100000
END:DAYLIGHT
BEGIN:STANDARD
TZOFFSETFROM:-0700
TZOFFSETTO:-0800
TZNAME:PST
DTSTART:20191103T090000
END:STANDARD
BEGIN:DAYLIGHT
TZOFFSETFROM:-0800
TZOFFSETTO:-0700
TZNAME:PDT
DTSTART:20200308T100000
END:DAYLIGHT
BEGIN:STANDARD
TZOFFSETFROM:-0700
TZOFFSETTO:-0800
TZNAME:PST
DTSTART:20201101T090000
END:STANDARD
BEGIN:DAYLIGHT
TZOFFSETFROM:-0800
TZOFFSETTO:-0700
TZNAME:PDT
DTSTART:20210314T100000
END:DAYLIGHT
BEGIN:STANDARD
TZOFFSETFROM:-0700
TZOFFSETTO:-0800
TZNAME:PST
DTSTART:20211107T090000
END:STANDARD
BEGIN:DAYLIGHT
TZOFFSETFROM:-0800
TZOFFSETTO:-0700
TZNAME:PDT
DTSTART:20220313T100000
END:DAYLIGHT
BEGIN:STANDARD
TZOFFSETFROM:-0700
TZOFFSETTO:-0800
TZNAME:PST
DTSTART:20221106T090000
END:STANDARD
BEGIN:DAYLIGHT
TZOFFSETFROM:-0800
TZOFFSETTO:-0700
TZNAME:PDT
DTSTART:20230312T100000
END:DAYLIGHT
BEGIN:STANDARD
TZOFFSETFROM:-0700
TZOFFSETTO:-0800
TZNAME:PST
DTSTART:20231105T090000
END:STANDARD
END:VTIMEZONE
BEGIN:VEVENT
DTSTART;TZID=America/Los_Angeles:20221109T180000
DTEND;TZID=America/Los_Angeles:20221109T200000
DTSTAMP:20260421T233941
CREATED:20220914T013819Z
LAST-MODIFIED:20220914T013819Z
UID:4683-1668016800-1668024000@doublepeakmusic.org
SUMMARY:Parent Band Rehearsal
DESCRIPTION:Parent Band Rehearsal (PAC) 6-8pm
URL:https://doublepeakmusic.org/event/parent-band-rehearsal-4/
LOCATION:Double Peak Performing Arts Center\, 111 San Elijo Road\, San Marcos\, CA\, 92078\, United States
CATEGORIES:Concert Band,Concert/Wind,Parent's Night,Performance
END:VEVENT
BEGIN:VEVENT
DTSTART;TZID=America/Los_Angeles:20221027T183000
DTEND;TZID=America/Los_Angeles:20221027T193000
DTSTAMP:20260421T233941
CREATED:20220823T182231Z
LAST-MODIFIED:20220823T182231Z
UID:4663-1666895400-1666899000@doublepeakmusic.org
SUMMARY:Musical - Parent Information Night
DESCRIPTION:Musical – Parent Information Night (PAC) 6:30-7:30pm
URL:https://doublepeakmusic.org/event/musical-parent-information-night-2/
LOCATION:Double Peak Performing Arts Center\, 111 San Elijo Road\, San Marcos\, CA\, 92078\, United States
CATEGORIES:Musical,Parent's Night,Performance
END:VEVENT
BEGIN:VEVENT
DTSTART;TZID=America/Los_Angeles:20191114T173000
DTEND;TZID=America/Los_Angeles:20191114T183000
DTSTAMP:20260421T233941
CREATED:20190820T183238Z
LAST-MODIFIED:20190820T183238Z
UID:3885-1573752600-1573756200@doublepeakmusic.org
SUMMARY:Musical Parent Information Night
DESCRIPTION:
URL:https://doublepeakmusic.org/event/musical-parent-information-night/
LOCATION:PAC
CATEGORIES:Parent's Night
END:VEVENT
BEGIN:VEVENT
DTSTART;TZID=America/Los_Angeles:20191113T180000
DTEND;TZID=America/Los_Angeles:20191113T200000
DTSTAMP:20260421T233941
CREATED:20190820T183152Z
LAST-MODIFIED:20190820T183152Z
UID:3883-1573668000-1573675200@doublepeakmusic.org
SUMMARY:Parent Band Rehearsal
DESCRIPTION:
URL:https://doublepeakmusic.org/event/parent-band-rehearsal-3/
LOCATION:PAC
CATEGORIES:Parent's Night
END:VEVENT
END:VCALENDAR