BEGIN:VCALENDAR
VERSION:2.0
PRODID:-//Double Peak Music Program - ECPv6.15.20//NONSGML v1.0//EN
CALSCALE:GREGORIAN
METHOD:PUBLISH
X-WR-CALNAME:Double Peak Music Program
X-ORIGINAL-URL:https://doublepeakmusic.org
X-WR-CALDESC:Events for Double Peak Music Program
REFRESH-INTERVAL;VALUE=DURATION:PT1H
X-Robots-Tag:noindex
X-PUBLISHED-TTL:PT1H
BEGIN:VTIMEZONE
TZID:America/Los_Angeles
BEGIN:DAYLIGHT
TZOFFSETFROM:-0800
TZOFFSETTO:-0700
TZNAME:PDT
DTSTART:20180311T100000
END:DAYLIGHT
BEGIN:STANDARD
TZOFFSETFROM:-0700
TZOFFSETTO:-0800
TZNAME:PST
DTSTART:20181104T090000
END:STANDARD
BEGIN:DAYLIGHT
TZOFFSETFROM:-0800
TZOFFSETTO:-0700
TZNAME:PDT
DTSTART:20190310T100000
END:DAYLIGHT
BEGIN:STANDARD
TZOFFSETFROM:-0700
TZOFFSETTO:-0800
TZNAME:PST
DTSTART:20191103T090000
END:STANDARD
BEGIN:DAYLIGHT
TZOFFSETFROM:-0800
TZOFFSETTO:-0700
TZNAME:PDT
DTSTART:20200308T100000
END:DAYLIGHT
BEGIN:STANDARD
TZOFFSETFROM:-0700
TZOFFSETTO:-0800
TZNAME:PST
DTSTART:20201101T090000
END:STANDARD
BEGIN:DAYLIGHT
TZOFFSETFROM:-0800
TZOFFSETTO:-0700
TZNAME:PDT
DTSTART:20210314T100000
END:DAYLIGHT
BEGIN:STANDARD
TZOFFSETFROM:-0700
TZOFFSETTO:-0800
TZNAME:PST
DTSTART:20211107T090000
END:STANDARD
BEGIN:DAYLIGHT
TZOFFSETFROM:-0800
TZOFFSETTO:-0700
TZNAME:PDT
DTSTART:20220313T100000
END:DAYLIGHT
BEGIN:STANDARD
TZOFFSETFROM:-0700
TZOFFSETTO:-0800
TZNAME:PST
DTSTART:20221106T090000
END:STANDARD
BEGIN:DAYLIGHT
TZOFFSETFROM:-0800
TZOFFSETTO:-0700
TZNAME:PDT
DTSTART:20230312T100000
END:DAYLIGHT
BEGIN:STANDARD
TZOFFSETFROM:-0700
TZOFFSETTO:-0800
TZNAME:PST
DTSTART:20231105T090000
END:STANDARD
BEGIN:DAYLIGHT
TZOFFSETFROM:-0800
TZOFFSETTO:-0700
TZNAME:PDT
DTSTART:20240310T100000
END:DAYLIGHT
BEGIN:STANDARD
TZOFFSETFROM:-0700
TZOFFSETTO:-0800
TZNAME:PST
DTSTART:20241103T090000
END:STANDARD
END:VTIMEZONE
BEGIN:VEVENT
DTSTART;VALUE=DATE:20230222
DTEND;VALUE=DATE:20230224
DTSTAMP:20260419T082559
CREATED:20230113T002732Z
LAST-MODIFIED:20230113T002732Z
UID:4807-1677024000-1677196799@doublepeakmusic.org
SUMMARY:Pre-Festival for all Bands
DESCRIPTION:Pre-Festival for all Bands (MHHS) 5-8pm each night 
URL:https://doublepeakmusic.org/event/pre-festival-for-all-bands/
LOCATION:Mission Hills High School\, 1 Mission Hills Court\, San Marcos\, CA\, 92069\, United States
CATEGORIES:Cadet Band,Concert Band,Honor Band,House Jazz Band,Jazz Band,Mission Hills Friends and Family,Performance
END:VEVENT
BEGIN:VEVENT
DTSTART;VALUE=DATE:20200201
DTEND;VALUE=DATE:20200202
DTSTAMP:20260419T082559
CREATED:20190923T190413Z
LAST-MODIFIED:20191107T173844Z
UID:4147-1580515200-1580601599@doublepeakmusic.org
SUMMARY:Honor Band Concert
DESCRIPTION:
URL:https://doublepeakmusic.org/event/honor-band-concert-tbd-for-time-and-location/
LOCATION:CA
CATEGORIES:Honor Band,Performance
END:VEVENT
BEGIN:VEVENT
DTSTART;VALUE=DATE:20200128
DTEND;VALUE=DATE:20200129
DTSTAMP:20260419T082559
CREATED:20190923T190315Z
LAST-MODIFIED:20191107T173742Z
UID:4145-1580169600-1580255999@doublepeakmusic.org
SUMMARY:Honor Band Rehearsal
DESCRIPTION:
URL:https://doublepeakmusic.org/event/honor-band-rehearsal-tbd-for-time-and-location-3/
LOCATION:CA
CATEGORIES:Honor Band
END:VEVENT
BEGIN:VEVENT
DTSTART;VALUE=DATE:20200121
DTEND;VALUE=DATE:20200122
DTSTAMP:20260419T082559
CREATED:20190923T190244Z
LAST-MODIFIED:20191107T173707Z
UID:4143-1579564800-1579651199@doublepeakmusic.org
SUMMARY:Honor Band Rehearsal
DESCRIPTION:
URL:https://doublepeakmusic.org/event/honor-band-rehearsal-tbd-for-time-and-location-2/
LOCATION:CA
CATEGORIES:Honor Band
END:VEVENT
BEGIN:VEVENT
DTSTART;VALUE=DATE:20200114
DTEND;VALUE=DATE:20200115
DTSTAMP:20260419T082559
CREATED:20190923T190205Z
LAST-MODIFIED:20191107T173924Z
UID:4141-1578960000-1579046399@doublepeakmusic.org
SUMMARY:Honor Band Rehearsal
DESCRIPTION:
URL:https://doublepeakmusic.org/event/honor-band-rehearsal-tbd-for-time-and-location/
LOCATION:CA
CATEGORIES:Honor Band
END:VEVENT
BEGIN:VEVENT
DTSTART;TZID=America/Los_Angeles:20191204T173000
DTEND;TZID=America/Los_Angeles:20191204T200000
DTSTAMP:20260419T082559
CREATED:20191107T173520Z
LAST-MODIFIED:20191107T173520Z
UID:4190-1575480600-1575489600@doublepeakmusic.org
SUMMARY:Honor Band Auditions
DESCRIPTION:
URL:https://doublepeakmusic.org/event/honor-band-auditions-2/
LOCATION:CA
CATEGORIES:Honor Band
END:VEVENT
BEGIN:VEVENT
DTSTART;TZID=America/Los_Angeles:20190131T190000
DTEND;TZID=America/Los_Angeles:20190131T200000
DTSTAMP:20260419T082559
CREATED:20180827T022644Z
LAST-MODIFIED:20190130T220349Z
UID:3226-1548961200-1548964800@doublepeakmusic.org
SUMMARY:Honor Band Performance @ Missions Hills HS
DESCRIPTION:
URL:https://doublepeakmusic.org/event/honor-band-performance-2/
LOCATION:Mission Hills High School\, 1 Mission Hills Court\, San Marcos\, CA\, 92069\, United States
CATEGORIES:Honor Band,Performance
END:VEVENT
BEGIN:VEVENT
DTSTART;VALUE=DATE:20190123
DTEND;VALUE=DATE:20190124
DTSTAMP:20260419T082559
CREATED:20180827T022515Z
LAST-MODIFIED:20181109T183131Z
UID:3224-1548201600-1548287999@doublepeakmusic.org
SUMMARY:Honor Band Rehearsal
DESCRIPTION:Time TBD
URL:https://doublepeakmusic.org/event/honor-band-rehearsal-2/
LOCATION:CA
CATEGORIES:Honor Band
END:VEVENT
BEGIN:VEVENT
DTSTART;VALUE=DATE:20190116
DTEND;VALUE=DATE:20190117
DTSTAMP:20260419T082559
CREATED:20180827T022441Z
LAST-MODIFIED:20181109T183053Z
UID:3222-1547596800-1547683199@doublepeakmusic.org
SUMMARY:Honor Band Rehearsal
DESCRIPTION:Time TBD
URL:https://doublepeakmusic.org/event/honor-band-rehearsal/
LOCATION:CA
CATEGORIES:Honor Band
END:VEVENT
END:VCALENDAR