BEGIN:VCALENDAR
VERSION:2.0
PRODID:-//Double Peak Music Program - ECPv6.15.20//NONSGML v1.0//EN
CALSCALE:GREGORIAN
METHOD:PUBLISH
X-WR-CALNAME:Double Peak Music Program
X-ORIGINAL-URL:https://doublepeakmusic.org
X-WR-CALDESC:Events for Double Peak Music Program
REFRESH-INTERVAL;VALUE=DURATION:PT1H
X-Robots-Tag:noindex
X-PUBLISHED-TTL:PT1H
BEGIN:VTIMEZONE
TZID:America/Los_Angeles
BEGIN:DAYLIGHT
TZOFFSETFROM:-0800
TZOFFSETTO:-0700
TZNAME:PDT
DTSTART:20210314T100000
END:DAYLIGHT
BEGIN:STANDARD
TZOFFSETFROM:-0700
TZOFFSETTO:-0800
TZNAME:PST
DTSTART:20211107T090000
END:STANDARD
BEGIN:DAYLIGHT
TZOFFSETFROM:-0800
TZOFFSETTO:-0700
TZNAME:PDT
DTSTART:20220313T100000
END:DAYLIGHT
BEGIN:STANDARD
TZOFFSETFROM:-0700
TZOFFSETTO:-0800
TZNAME:PST
DTSTART:20221106T090000
END:STANDARD
BEGIN:DAYLIGHT
TZOFFSETFROM:-0800
TZOFFSETTO:-0700
TZNAME:PDT
DTSTART:20230312T100000
END:DAYLIGHT
BEGIN:STANDARD
TZOFFSETFROM:-0700
TZOFFSETTO:-0800
TZNAME:PST
DTSTART:20231105T090000
END:STANDARD
END:VTIMEZONE
BEGIN:VEVENT
DTSTART;TZID=America/Los_Angeles:20220909T080000
DTEND;TZID=America/Los_Angeles:20220909T083000
DTSTAMP:20260422T011231
CREATED:20220821T192025Z
LAST-MODIFIED:20220821T192025Z
UID:4638-1662710400-1662712200@doublepeakmusic.org
SUMMARY:Coffee Cart available for Jazz Band performance
DESCRIPTION:Come and support the Double Peak Jazz Band by buying a cup of coffee and listening to the Jazz band perform before school.
URL:https://doublepeakmusic.org/event/coffee-cart-available-for-jazz-band-performance/
LOCATION:CA
CATEGORIES:Fundraising,Jazz Band
END:VEVENT
END:VCALENDAR